BEGIN:VCALENDAR
VERSION:2.0
PRODID:-//Westerly Airport Association - ECPv6.15.18//NONSGML v1.0//EN
CALSCALE:GREGORIAN
METHOD:PUBLISH
X-WR-CALNAME:Westerly Airport Association
X-ORIGINAL-URL:https://westerlyairportfriends.org
X-WR-CALDESC:Events for Westerly Airport Association
REFRESH-INTERVAL;VALUE=DURATION:PT1H
X-Robots-Tag:noindex
X-PUBLISHED-TTL:PT1H
BEGIN:VTIMEZONE
TZID:America/New_York
BEGIN:DAYLIGHT
TZOFFSETFROM:-0500
TZOFFSETTO:-0400
TZNAME:EDT
DTSTART:20110313T070000
END:DAYLIGHT
BEGIN:STANDARD
TZOFFSETFROM:-0400
TZOFFSETTO:-0500
TZNAME:EST
DTSTART:20111106T060000
END:STANDARD
BEGIN:DAYLIGHT
TZOFFSETFROM:-0500
TZOFFSETTO:-0400
TZNAME:EDT
DTSTART:20120311T070000
END:DAYLIGHT
BEGIN:STANDARD
TZOFFSETFROM:-0400
TZOFFSETTO:-0500
TZNAME:EST
DTSTART:20121104T060000
END:STANDARD
BEGIN:DAYLIGHT
TZOFFSETFROM:-0500
TZOFFSETTO:-0400
TZNAME:EDT
DTSTART:20130310T070000
END:DAYLIGHT
BEGIN:STANDARD
TZOFFSETFROM:-0400
TZOFFSETTO:-0500
TZNAME:EST
DTSTART:20131103T060000
END:STANDARD
END:VTIMEZONE
BEGIN:VEVENT
DTSTART;TZID=America/New_York:20120917T180000
DTEND;TZID=America/New_York:20120917T210000
DTSTAMP:20260424T121130
CREATED:20120821T142206Z
LAST-MODIFIED:20120921T223757Z
UID:274-1347904800-1347915600@westerlyairportfriends.org
SUMMARY:WAA meeting
DESCRIPTION:WAA_minutes-120917
URL:https://westerlyairportfriends.org/event/waa-meeting-3/
LOCATION:WAA monthly meeting\, Pleasant View Inn\, Misquamicut\, Westerly\, RI\, 02891\, United States
CATEGORIES:Meetings
END:VEVENT
BEGIN:VEVENT
DTSTART;TZID=America/New_York:20120910T190000
DTEND;TZID=America/New_York:20120910T210000
DTSTAMP:20260424T121130
CREATED:20120821T141629Z
LAST-MODIFIED:20120824T190335Z
UID:272-1347303600-1347310800@westerlyairportfriends.org
SUMMARY:WAA WOW 2012 Meeting
DESCRIPTION:
URL:https://westerlyairportfriends.org/event/waa-wow-2012-meeting-2/
LOCATION:WAA WOW 2012 Meeting\, Dooney Aviation\, Westerly\, RI\, 02891\, United States
CATEGORIES:Meetings
END:VEVENT
BEGIN:VEVENT
DTSTART;TZID=America/New_York:20120827T190000
DTEND;TZID=America/New_York:20120827T210000
DTSTAMP:20260424T121130
CREATED:20120821T141348Z
LAST-MODIFIED:20120821T143338Z
UID:270-1346094000-1346101200@westerlyairportfriends.org
SUMMARY:WAA WOW 2012 Meeting
DESCRIPTION:
URL:https://westerlyairportfriends.org/event/waa-wow-2012-meeting/
LOCATION:WAA WOW 2012 Meeting\, Dooney Aviation\, Westerly\, RI\, 02891\, United States
CATEGORIES:Meetings
END:VEVENT
BEGIN:VEVENT
DTSTART;TZID=America/New_York:20120820T190000
DTEND;TZID=America/New_York:20120820T210000
DTSTAMP:20260424T121130
CREATED:20120821T134937Z
LAST-MODIFIED:20120827T210724Z
UID:266-1345489200-1345496400@westerlyairportfriends.org
SUMMARY:WAA meeting
DESCRIPTION:WAA_minutes-120820
URL:https://westerlyairportfriends.org/event/waa-meeting-2/
LOCATION:WAA monthly meeting Dooney\, Dooney Aviation\, Westerly\, RI\, 02891\, United States
CATEGORIES:Meetings
END:VEVENT
BEGIN:VEVENT
DTSTART;TZID=America/New_York:20120811T130000
DTEND;TZID=America/New_York:20120811T143000
DTSTAMP:20260424T121130
CREATED:20121201T190755Z
LAST-MODIFIED:20121201T190826Z
UID:456-1344690000-1344695400@westerlyairportfriends.org
SUMMARY:WAA website meeting
DESCRIPTION:We discussed logging in to WordPress\, wstaa.net link to new site. Invoice was 5 hrs
URL:https://westerlyairportfriends.org/event/waa-website-meeting-2/
LOCATION:WAA website meeting\, Dooney Aviation\, Westerly\, RI\, 02891\, United States
CATEGORIES:Meetings
END:VEVENT
BEGIN:VEVENT
DTSTART;TZID=America/New_York:20120806T190000
DTEND;TZID=America/New_York:20120806T210000
DTSTAMP:20260424T121130
CREATED:20120829T182431Z
LAST-MODIFIED:20120829T182905Z
UID:302-1344279600-1344286800@westerlyairportfriends.org
SUMMARY:WAA WOW 2012 Meeting
DESCRIPTION:
URL:https://westerlyairportfriends.org/event/waa-wow-2012-meeting-4/
LOCATION:WAA WOW 2012 Meeting\, Dooney Aviation\, Westerly\, RI\, 02891\, United States
CATEGORIES:Meetings
END:VEVENT
BEGIN:VEVENT
DTSTART;TZID=America/New_York:20120730T190000
DTEND;TZID=America/New_York:20120730T210000
DTSTAMP:20260424T121130
CREATED:20121120T030512Z
LAST-MODIFIED:20121201T194724Z
UID:418-1343674800-1343682000@westerlyairportfriends.org
SUMMARY:WAA Board of Directors meeting
DESCRIPTION:
URL:https://westerlyairportfriends.org/event/waa-board-of-directors-meeting/
LOCATION:WAA Board of Directors meeting\, 56 Airport Rd\, Westerly\, RI\, 02891\, United States
CATEGORIES:Meetings
END:VEVENT
BEGIN:VEVENT
DTSTART;TZID=America/New_York:20120716T190000
DTEND;TZID=America/New_York:20120716T210000
DTSTAMP:20260424T121130
CREATED:20120821T134057Z
LAST-MODIFIED:20120827T212341Z
UID:263-1342465200-1342472400@westerlyairportfriends.org
SUMMARY:WAA meeting
DESCRIPTION:WAA_minutes-120716
URL:https://westerlyairportfriends.org/event/waa-meeting/
LOCATION:WAA monthly meeting Buon\, Buon Appetito Ristorante\, North Stonington\, CT\, 06359\, United States
CATEGORIES:Meetings
END:VEVENT
BEGIN:VEVENT
DTSTART;TZID=America/New_York:20120626T180000
DTEND;TZID=America/New_York:20120626T210000
DTSTAMP:20260424T121130
CREATED:20121201T190355Z
LAST-MODIFIED:20121201T190355Z
UID:454-1340733600-1340744400@westerlyairportfriends.org
SUMMARY:WAA website meeting
DESCRIPTION:met with Ryan Adams. He gave us Invoice and will start.
URL:https://westerlyairportfriends.org/event/waa-website-meeting/
LOCATION:WAA website meeting\, Bernie's house\, Westerly\, 02891\, United States
CATEGORIES:Meetings
END:VEVENT
BEGIN:VEVENT
DTSTART;TZID=America/New_York:20120618T180000
DTEND;TZID=America/New_York:20120618T210000
DTSTAMP:20260424T121130
CREATED:20121201T174812Z
LAST-MODIFIED:20121201T185805Z
UID:438-1340042400-1340053200@westerlyairportfriends.org
SUMMARY:WAA dinner meeting
DESCRIPTION:with Scholarship winners
URL:https://westerlyairportfriends.org/event/waa-meeting-7/
LOCATION:RI
CATEGORIES:Meetings
END:VEVENT
BEGIN:VEVENT
DTSTART;TZID=America/New_York:20120521T190000
DTEND;TZID=America/New_York:20120521T210000
DTSTAMP:20260424T121130
CREATED:20121201T175806Z
LAST-MODIFIED:20121201T175806Z
UID:440-1337626800-1337634000@westerlyairportfriends.org
SUMMARY:WAA meeting
DESCRIPTION:
URL:https://westerlyairportfriends.org/event/waa-meeting-6/
LOCATION:RI
CATEGORIES:Meetings
END:VEVENT
BEGIN:VEVENT
DTSTART;TZID=America/New_York:20120416T190000
DTEND;TZID=America/New_York:20120416T210000
DTSTAMP:20260424T121130
CREATED:20121201T181020Z
LAST-MODIFIED:20121201T181111Z
UID:442-1334602800-1334610000@westerlyairportfriends.org
SUMMARY:WAA meeting
DESCRIPTION:
URL:https://westerlyairportfriends.org/event/waa-meeting-8/
LOCATION:WAA monthly meeting\, Dooney Aviation\, Westerly\, RI\, 02891\, United States
CATEGORIES:Meetings
END:VEVENT
BEGIN:VEVENT
DTSTART;TZID=America/New_York:20120411T180000
DTEND;TZID=America/New_York:20120411T200000
DTSTAMP:20260424T121130
CREATED:20121201T182459Z
LAST-MODIFIED:20121201T182459Z
UID:446-1334167200-1334174400@westerlyairportfriends.org
SUMMARY:WAA meeting
DESCRIPTION:special meeting: prepare for May 2 Ocean House event
URL:https://westerlyairportfriends.org/event/waa-meeting-9/
LOCATION:RI
CATEGORIES:Meetings
END:VEVENT
BEGIN:VEVENT
DTSTART;TZID=America/New_York:20120409T190000
DTEND;TZID=America/New_York:20120409T210000
DTSTAMP:20260424T121130
CREATED:20121201T194121Z
LAST-MODIFIED:20121201T194946Z
UID:460-1333998000-1334005200@westerlyairportfriends.org
SUMMARY:WAA Board of Directors meeting
DESCRIPTION:
URL:https://westerlyairportfriends.org/event/waa-board-of-directors-meeting-3/
LOCATION:WAA Board of Directors meeting\, 9 Juniper Dr\,\, Ashaway\, RI\, 02804\, United States
CATEGORIES:Meetings
END:VEVENT
BEGIN:VEVENT
DTSTART;TZID=America/New_York:20120319T180000
DTEND;TZID=America/New_York:20120319T210000
DTSTAMP:20260424T121130
CREATED:20121201T185646Z
LAST-MODIFIED:20121201T185646Z
UID:452-1332180000-1332190800@westerlyairportfriends.org
SUMMARY:WAA dinner meeting
DESCRIPTION:
URL:https://westerlyairportfriends.org/event/waa-dinner-meeting/
LOCATION:WAA monthly meeting\, Zoom Link\, RI\, 02891\, United States
CATEGORIES:Meetings
END:VEVENT
BEGIN:VEVENT
DTSTART;TZID=America/New_York:20120220T190000
DTEND;TZID=America/New_York:20120220T210000
DTSTAMP:20260424T121130
CREATED:20121201T184938Z
LAST-MODIFIED:20121201T184938Z
UID:450-1329764400-1329771600@westerlyairportfriends.org
SUMMARY:WAA meeting
DESCRIPTION:
URL:https://westerlyairportfriends.org/event/waa-meeting-10/
LOCATION:WAA monthly meeting\, Dooney Aviation\, Westerly\, RI\, 02891\, United States
CATEGORIES:Meetings
END:VEVENT
BEGIN:VEVENT
DTSTART;TZID=America/New_York:20120116T180000
DTEND;TZID=America/New_York:20120116T210000
DTSTAMP:20260424T121130
CREATED:20121201T184323Z
LAST-MODIFIED:20130115T224525Z
UID:448-1326736800-1326747600@westerlyairportfriends.org
SUMMARY:WAA appetizer party and meeting
DESCRIPTION:elected President Bernie Stumpf\, Vice-president: Mike Ferrigno
URL:https://westerlyairportfriends.org/event/waa-appetizer-party-and-meeting/
LOCATION:Private: WAA appetizer party and meeting\, Carol Amedeo home\, Westerly\, RI\, 02891\, United States
CATEGORIES:Events,Meetings
END:VEVENT
END:VCALENDAR