BEGIN:VCALENDAR
VERSION:2.0
PRODID:-//Westerly Airport Association - ECPv6.15.18//NONSGML v1.0//EN
CALSCALE:GREGORIAN
METHOD:PUBLISH
X-ORIGINAL-URL:https://westerlyairportfriends.org
X-WR-CALDESC:Events for Westerly Airport Association
REFRESH-INTERVAL;VALUE=DURATION:PT1H
X-Robots-Tag:noindex
X-PUBLISHED-TTL:PT1H
BEGIN:VTIMEZONE
TZID:America/New_York
BEGIN:DAYLIGHT
TZOFFSETFROM:-0500
TZOFFSETTO:-0400
TZNAME:EDT
DTSTART:20140309T070000
END:DAYLIGHT
BEGIN:STANDARD
TZOFFSETFROM:-0400
TZOFFSETTO:-0500
TZNAME:EST
DTSTART:20141102T060000
END:STANDARD
BEGIN:DAYLIGHT
TZOFFSETFROM:-0500
TZOFFSETTO:-0400
TZNAME:EDT
DTSTART:20150308T070000
END:DAYLIGHT
BEGIN:STANDARD
TZOFFSETFROM:-0400
TZOFFSETTO:-0500
TZNAME:EST
DTSTART:20151101T060000
END:STANDARD
BEGIN:DAYLIGHT
TZOFFSETFROM:-0500
TZOFFSETTO:-0400
TZNAME:EDT
DTSTART:20160313T070000
END:DAYLIGHT
BEGIN:STANDARD
TZOFFSETFROM:-0400
TZOFFSETTO:-0500
TZNAME:EST
DTSTART:20161106T060000
END:STANDARD
BEGIN:DAYLIGHT
TZOFFSETFROM:-0500
TZOFFSETTO:-0400
TZNAME:EDT
DTSTART:20170312T070000
END:DAYLIGHT
BEGIN:STANDARD
TZOFFSETFROM:-0400
TZOFFSETTO:-0500
TZNAME:EST
DTSTART:20171105T060000
END:STANDARD
BEGIN:DAYLIGHT
TZOFFSETFROM:-0500
TZOFFSETTO:-0400
TZNAME:EDT
DTSTART:20180311T070000
END:DAYLIGHT
BEGIN:STANDARD
TZOFFSETFROM:-0400
TZOFFSETTO:-0500
TZNAME:EST
DTSTART:20181104T060000
END:STANDARD
END:VTIMEZONE
BEGIN:VEVENT
DTSTART;TZID=America/New_York:20170321T180000
DTEND;TZID=America/New_York:20170321T210000
DTSTAMP:20260424T001633
CREATED:20161018T202928Z
LAST-MODIFIED:20170412T181203Z
UID:1140-1490119200-1490130000@westerlyairportfriends.org
SUMMARY:WAA meeting
DESCRIPTION:For WAA Members and invited guests. \nWAA_minutes-170321
URL:https://westerlyairportfriends.org/event/waa-meeting-55/
LOCATION:WAA monthly meeting Sea Goose\, The Sea Goose\,265 Post Rd\, Westerly\, RI\, 02891\, United States
CATEGORIES:Meetings
END:VEVENT
BEGIN:VEVENT
DTSTART;TZID=America/New_York:20170316T090000
DTEND;TZID=America/New_York:20170316T100000
DTSTAMP:20260424T001633
CREATED:20170301T142932Z
LAST-MODIFIED:20170301T145027Z
UID:1169-1489654800-1489658400@westerlyairportfriends.org
SUMMARY:WAA OH Committee meeting
DESCRIPTION:For WAA Event Committee members.
URL:https://westerlyairportfriends.org/event/waa-oh-committee-meeting/
CATEGORIES:Meetings
END:VEVENT
BEGIN:VEVENT
DTSTART;TZID=America/New_York:20170307T180000
DTEND;TZID=America/New_York:20170307T200000
DTSTAMP:20260424T001633
CREATED:20170123T221242Z
LAST-MODIFIED:20170123T221242Z
UID:1163-1488909600-1488916800@westerlyairportfriends.org
SUMMARY:WAA Board of Directors meeting
DESCRIPTION:For WAA Members and invited guests. \nConference room of the Westerly Airport main terminal building. After entering through the front doors\, go down the corridor to the right. The conference room is the last door on the right.
URL:https://westerlyairportfriends.org/event/waa-board-of-directors-meeting-7/
CATEGORIES:Meetings
END:VEVENT
BEGIN:VEVENT
DTSTART;TZID=America/New_York:20170221T180000
DTEND;TZID=America/New_York:20170221T210000
DTSTAMP:20260424T001633
CREATED:20161018T202627Z
LAST-MODIFIED:20170228T024632Z
UID:1138-1487700000-1487710800@westerlyairportfriends.org
SUMMARY:WAA meeting
DESCRIPTION:For WAA Members and invited guests. \nConference room of the Westerly Airport main terminal building.\nAfter entering through the front doors\, go down the corridor to the right. The conference room is the last door on the right. \nMeeting  begins with a light supper.\nWAA_minutes-170221
URL:https://westerlyairportfriends.org/event/waa-meeting-54/
CATEGORIES:Meetings
END:VEVENT
BEGIN:VEVENT
DTSTART;TZID=America/New_York:20170127T090000
DTEND;TZID=America/New_York:20170127T110000
DTSTAMP:20260424T001633
CREATED:20170123T220434Z
LAST-MODIFIED:20170301T143043Z
UID:1160-1485507600-1485514800@westerlyairportfriends.org
SUMMARY:WAA OH Committee meeting
DESCRIPTION:For WAA Event Committee members.
URL:https://westerlyairportfriends.org/event/waa-ocean-house-event-planning/
LOCATION:WAA planning meeting Ocean House\, Ocean House\, 1 Bluff Ave.\, Watch Hill\, RI\, 02891\, United States
CATEGORIES:Meetings
END:VEVENT
BEGIN:VEVENT
DTSTART;TZID=America/New_York:20170119T180000
DTEND;TZID=America/New_York:20170119T210000
DTSTAMP:20260424T001633
CREATED:20161018T202213Z
LAST-MODIFIED:20170123T215014Z
UID:1135-1484848800-1484859600@westerlyairportfriends.org
SUMMARY:WAA meeting
DESCRIPTION:For WAA Members and invited guests.\nWAA_minutes-170119
URL:https://westerlyairportfriends.org/event/waa-meeting-53/
CATEGORIES:Meetings
END:VEVENT
BEGIN:VEVENT
DTSTART;TZID=America/New_York:20161129T180000
DTEND;TZID=America/New_York:20161129T200000
DTSTAMP:20260424T001633
CREATED:20161124T000631Z
LAST-MODIFIED:20161124T000631Z
UID:1151-1480442400-1480449600@westerlyairportfriends.org
SUMMARY:WAA Board of Directors meeting
DESCRIPTION:For WAA Members and invited guests. \nConference room of the Westerly Airport main terminal building. After entering through the front doors\, go down the corridor to the right. The conference room is the last door on the right.
URL:https://westerlyairportfriends.org/event/waa-board-of-directors-meeting-6/
LOCATION:WAA Board of Directors meeting Terminal\, 56 Airport Rd\, Westerly\, RI\, 02891\, United States
CATEGORIES:Meetings
END:VEVENT
BEGIN:VEVENT
DTSTART;TZID=America/New_York:20161115T180000
DTEND;TZID=America/New_York:20161115T210000
DTSTAMP:20260424T001633
CREATED:20160830T115151Z
LAST-MODIFIED:20161117T210326Z
UID:1119-1479232800-1479243600@westerlyairportfriends.org
SUMMARY:WAA dinner meeting
DESCRIPTION:For WAA Members and invited guests. \nWAA_minutes-161115
URL:https://westerlyairportfriends.org/event/waa-meeting-51/
CATEGORIES:Meetings
END:VEVENT
BEGIN:VEVENT
DTSTART;TZID=America/New_York:20161025T180000
DTEND;TZID=America/New_York:20161025T210000
DTSTAMP:20260424T001633
CREATED:20160830T114521Z
LAST-MODIFIED:20161101T220307Z
UID:1117-1477418400-1477429200@westerlyairportfriends.org
SUMMARY:WAA meeting
DESCRIPTION:Meeting has been postponed to Oct 25 2016\, same place and time. \nFor WAA Members and invited guests. \nConference room of the Westerly Airport main terminal building. After entering through the front doors\, go down the corridor to the right. The conference room is the last door on the right. \nMeeting  begins with a light supper. \nWAA_minutes-161025
URL:https://westerlyairportfriends.org/event/waa-meeting-50/
CATEGORIES:Meetings
END:VEVENT
BEGIN:VEVENT
DTSTART;TZID=America/New_York:20160920T180000
DTEND;TZID=America/New_York:20160920T210000
DTSTAMP:20260424T001633
CREATED:20160524T221517Z
LAST-MODIFIED:20161003T132430Z
UID:1047-1474394400-1474405200@westerlyairportfriends.org
SUMMARY:WAA dinner meeting
DESCRIPTION:For WAA Members and invited guests. \nWAA_minutes-160920
URL:https://westerlyairportfriends.org/event/waa-meeting-49/
LOCATION:WAA monthly meeting Go-Fish\, Go-Fish\, Mystic Village\, CT\, 06355\, United States
CATEGORIES:Meetings
END:VEVENT
BEGIN:VEVENT
DTSTART;TZID=America/New_York:20160830T180000
DTEND;TZID=America/New_York:20160830T200000
DTSTAMP:20260424T001633
CREATED:20160830T113524Z
LAST-MODIFIED:20160830T113524Z
UID:1115-1472580000-1472587200@westerlyairportfriends.org
SUMMARY:WAA Golf Committee meeting
DESCRIPTION:For WAA Members and invited guests. \nConference room of the Westerly Airport main terminal building. After entering through the front doors\, go down the corridor to the right. The conference room is the last door on the right.
URL:https://westerlyairportfriends.org/event/waa-golf-committee-meeting-7/
CATEGORIES:Meetings
END:VEVENT
BEGIN:VEVENT
DTSTART;TZID=America/New_York:20160823T180000
DTEND;TZID=America/New_York:20160823T200000
DTSTAMP:20260424T001633
CREATED:20160806T122757Z
LAST-MODIFIED:20160806T122757Z
UID:1106-1471975200-1471982400@westerlyairportfriends.org
SUMMARY:WAA Golf committee meeting
DESCRIPTION:For WAA Members and invited guests. \nConference room of the Westerly Airport main terminal building. After entering through the front doors\, go down the corridor to the right. The conference room is the last door on the right.
URL:https://westerlyairportfriends.org/event/waa-golf-committee-meeting-6/
CATEGORIES:Meetings
END:VEVENT
BEGIN:VEVENT
DTSTART;TZID=America/New_York:20160816T180000
DTEND;TZID=America/New_York:20160816T210000
DTSTAMP:20260424T001633
CREATED:20160524T221408Z
LAST-MODIFIED:20160825T124937Z
UID:1045-1471370400-1471381200@westerlyairportfriends.org
SUMMARY:WAA meeting
DESCRIPTION:For WAA Members and invited guests. \nConference room of the Westerly Airport main terminal building. After entering through the front doors\, go down the corridor to the right. The conference room is the last door on the right. \nMeeting  begins with a light supper. \nWAA_minutes-160816
URL:https://westerlyairportfriends.org/event/waa-meeting-48/
CATEGORIES:Meetings
END:VEVENT
BEGIN:VEVENT
DTSTART;TZID=America/New_York:20160810T180000
DTEND;TZID=America/New_York:20160810T200000
DTSTAMP:20260424T001633
CREATED:20160806T122326Z
LAST-MODIFIED:20160812T232510Z
UID:1103-1470852000-1470859200@westerlyairportfriends.org
SUMMARY:WAA Golf committee meeting
DESCRIPTION:For WAA Members and invited guests. \nConference room of the Westerly Airport main terminal building. After entering through the front doors\, go down the corridor to the right. The conference room is the last door on the right. \nWAA_minutes-160810
URL:https://westerlyairportfriends.org/event/waa-golf-com/
CATEGORIES:Meetings
END:VEVENT
BEGIN:VEVENT
DTSTART;TZID=America/New_York:20160802T180000
DTEND;TZID=America/New_York:20160802T200000
DTSTAMP:20260424T001633
CREATED:20160727T163228Z
LAST-MODIFIED:20160806T121532Z
UID:1097-1470160800-1470168000@westerlyairportfriends.org
SUMMARY:WAA Golf committee meeting
DESCRIPTION:For WAA Members and invited guests. \nConference room of the Westerly Airport main terminal building. After entering through the front doors\, go down the corridor to the right. The conference room is the last door on the right. \nWAA_minutes-160802
URL:https://westerlyairportfriends.org/event/waa-golf-committee-meeting-5/
CATEGORIES:Meetings
END:VEVENT
BEGIN:VEVENT
DTSTART;TZID=America/New_York:20160726T180000
DTEND;TZID=America/New_York:20160726T200000
DTSTAMP:20260424T001633
CREATED:20160727T160303Z
LAST-MODIFIED:20160727T161212Z
UID:1092-1469556000-1469563200@westerlyairportfriends.org
SUMMARY:WAA Golf committee meeting
DESCRIPTION:For WAA Members and invited guests. \nConference room of the Westerly Airport main terminal building. After entering through the front doors\, go down the corridor to the right. The conference room is the last door on the right.\nWAA_minutes-160726
URL:https://westerlyairportfriends.org/event/waa-golf-committee-meeting-4/
CATEGORIES:Meetings
END:VEVENT
BEGIN:VEVENT
DTSTART;TZID=America/New_York:20160719T180000
DTEND;TZID=America/New_York:20160719T210000
DTSTAMP:20260424T001633
CREATED:20160524T221254Z
LAST-MODIFIED:20160723T141730Z
UID:1043-1468951200-1468962000@westerlyairportfriends.org
SUMMARY:WAA dinner meeting
DESCRIPTION:For WAA Members and invited guests.\nWAA_minutes-160719
URL:https://westerlyairportfriends.org/event/waa-meeting-47/
CATEGORIES:Meetings
END:VEVENT
BEGIN:VEVENT
DTSTART;TZID=America/New_York:20160713T180000
DTEND;TZID=America/New_York:20160713T200000
DTSTAMP:20260424T001633
CREATED:20160713T140209Z
LAST-MODIFIED:20160713T140209Z
UID:1070-1468432800-1468440000@westerlyairportfriends.org
SUMMARY:WAA Golf committee meeting
DESCRIPTION:For WAA Members and invited guests. \nConference room of the Westerly Airport main terminal building. After entering through the front doors\, go down the corridor to the right. The conference room is the last door on the right.
URL:https://westerlyairportfriends.org/event/waa-golf-committee-meeting-3/
CATEGORIES:Meetings
END:VEVENT
BEGIN:VEVENT
DTSTART;TZID=America/New_York:20160707T180000
DTEND;TZID=America/New_York:20160707T200000
DTSTAMP:20260424T001633
CREATED:20160706T132449Z
LAST-MODIFIED:20160713T134912Z
UID:1061-1467914400-1467921600@westerlyairportfriends.org
SUMMARY:WAA Golf committee meeting
DESCRIPTION:For WAA Members and invited guests. \nConference room of the Westerly Airport main terminal building. After entering through the front doors\, go down the corridor to the right. The conference room is the last door on the right. \nWAA_minutes-160707
URL:https://westerlyairportfriends.org/event/waa-golf-committee-meeting-2/
CATEGORIES:Meetings
END:VEVENT
BEGIN:VEVENT
DTSTART;TZID=America/New_York:20160628T180000
DTEND;TZID=America/New_York:20160628T200000
DTSTAMP:20260424T001633
CREATED:20160622T191844Z
LAST-MODIFIED:20160706T140156Z
UID:1056-1467136800-1467144000@westerlyairportfriends.org
SUMMARY:WAA Golf committee meeting
DESCRIPTION:For WAA Members and invited guests. \nConference room of the Westerly Airport main terminal building. After entering through the front doors\, go down the corridor to the right. The conference room is the last door on the right. \nWAA_minutes-160628
URL:https://westerlyairportfriends.org/event/waa-golf-committee-meeting/
CATEGORIES:Meetings
END:VEVENT
BEGIN:VEVENT
DTSTART;TZID=America/New_York:20160622T170000
DTEND;TZID=America/New_York:20160622T190000
DTSTAMP:20260424T001633
CREATED:20160616T022505Z
LAST-MODIFIED:20160616T023542Z
UID:1053-1466614800-1466622000@westerlyairportfriends.org
SUMMARY:WAA Pancake Breakfast planning meeting
DESCRIPTION:
URL:https://westerlyairportfriends.org/event/waa-pancake-breakfast-planning-mtg/
LOCATION:WAA planning meeting Dooney\, Dooney Aviation\, Westerly\, RI\, 02891\, United States
CATEGORIES:Meetings
END:VEVENT
BEGIN:VEVENT
DTSTART;TZID=America/New_York:20160621T180000
DTEND;TZID=America/New_York:20160621T210000
DTSTAMP:20260424T001633
CREATED:20160422T131546Z
LAST-MODIFIED:20160625T125910Z
UID:1016-1466532000-1466542800@westerlyairportfriends.org
SUMMARY:WAA meeting
DESCRIPTION:For WAA Members and invited guests. \nConference room of the Westerly Airport main terminal building. After entering through the front doors\, go down the corridor to the right. The conference room is the last door on the right. \nMeeting  begins with a light supper. \nWAA_minutes-160621
URL:https://westerlyairportfriends.org/event/waa-meeting-46/
CATEGORIES:Meetings
END:VEVENT
BEGIN:VEVENT
DTSTART;TZID=America/New_York:20160517T180000
DTEND;TZID=America/New_York:20160517T210000
DTSTAMP:20260424T001633
CREATED:20160405T194923Z
LAST-MODIFIED:20160519T022049Z
UID:1007-1463508000-1463518800@westerlyairportfriends.org
SUMMARY:WAA dinner meeting
DESCRIPTION:For WAA Members and invited guests. \nWAA_minutes-160517
URL:https://westerlyairportfriends.org/event/waa-meeting-45/
LOCATION:WAA monthly meeting Bridge\, The Bridge Restaurant\, Westerly\, RI\, 02891\, United States
CATEGORIES:Meetings
END:VEVENT
BEGIN:VEVENT
DTSTART;TZID=America/New_York:20160419T180000
DTEND;TZID=America/New_York:20160419T210000
DTSTAMP:20260424T001633
CREATED:20160220T233722Z
LAST-MODIFIED:20160422T132233Z
UID:1000-1461088800-1461099600@westerlyairportfriends.org
SUMMARY:WAA meeting
DESCRIPTION:For WAA Members and invited guests. \nConference room of the Westerly Airport main terminal building. After entering through the front doors\, go down the corridor to the right. The conference room is the last door on the right. \nMeeting  begins with a light supper.\nWAA_minutes-160419
URL:https://westerlyairportfriends.org/event/waa-meeting-44/
CATEGORIES:Meetings
END:VEVENT
BEGIN:VEVENT
DTSTART;TZID=America/New_York:20160315T180000
DTEND;TZID=America/New_York:20160315T210000
DTSTAMP:20260424T001633
CREATED:20160220T232735Z
LAST-MODIFIED:20160405T211614Z
UID:997-1458064800-1458075600@westerlyairportfriends.org
SUMMARY:WAA dinner meeting
DESCRIPTION:For WAA Members and invited guests. \nWAA_minutes-160315
URL:https://westerlyairportfriends.org/event/waa-dinner-meeting-9/
CATEGORIES:Meetings
END:VEVENT
BEGIN:VEVENT
DTSTART;TZID=America/New_York:20160216T180000
DTEND;TZID=America/New_York:20160216T210000
DTSTAMP:20260424T001633
CREATED:20160202T153959Z
LAST-MODIFIED:20160220T231055Z
UID:982-1455645600-1455656400@westerlyairportfriends.org
SUMMARY:WAA meeting
DESCRIPTION:For WAA Members and invited guests. \nConference room of the Westerly Airport main terminal building. After entering through the front doors\, go down the corridor to the right. The conference room is the last door on the right. \nMeeting  begins with a light supper.\nWAA_minutes-160216
URL:https://westerlyairportfriends.org/event/waa-meeting-43/
CATEGORIES:Meetings
END:VEVENT
BEGIN:VEVENT
DTSTART;TZID=America/New_York:20160119T180000
DTEND;TZID=America/New_York:20160119T210000
DTSTAMP:20260424T001633
CREATED:20151218T041045Z
LAST-MODIFIED:20160128T232139Z
UID:972-1453226400-1453237200@westerlyairportfriends.org
SUMMARY:WAA dinner meeting
DESCRIPTION:For WAA Members and invited guests. \nWAA_minutes-160119
URL:https://westerlyairportfriends.org/event/waa-dinner-meeting-8/
CATEGORIES:Meetings
END:VEVENT
BEGIN:VEVENT
DTSTART;TZID=America/New_York:20151215T180000
DTEND;TZID=America/New_York:20151215T210000
DTSTAMP:20260424T001633
CREATED:20151117T211525Z
LAST-MODIFIED:20180127T232215Z
UID:957-1450202400-1450213200@westerlyairportfriends.org
SUMMARY:WAA dinner meeting
DESCRIPTION:For WAA Members and invited guests.\nVote on the new officer and BOD slates for 2016.\nWAA_minutes-151215
URL:https://westerlyairportfriends.org/event/waa-meeting-42/
LOCATION:WAA special event\, Go-Fish\, Mystic Village\, CT\, United States
CATEGORIES:Meetings
END:VEVENT
BEGIN:VEVENT
DTSTART;TZID=America/New_York:20151117T180000
DTEND;TZID=America/New_York:20151117T210000
DTSTAMP:20260424T001633
CREATED:20151117T211119Z
LAST-MODIFIED:20151121T131753Z
UID:953-1447783200-1447794000@westerlyairportfriends.org
SUMMARY:WAA meeting
DESCRIPTION:For WAA Members and invited guests.\nJoyce’s Everyday Gourmet hot meal. \nWAA_minutes-151117
URL:https://westerlyairportfriends.org/event/waa-meeting-41/
CATEGORIES:Meetings
END:VEVENT
BEGIN:VEVENT
DTSTART;TZID=America/New_York:20151020T180000
DTEND;TZID=America/New_York:20151020T210000
DTSTAMP:20260424T001633
CREATED:20150922T155612Z
LAST-MODIFIED:20151117T193858Z
UID:939-1445364000-1445374800@westerlyairportfriends.org
SUMMARY:WAA dinner meeting
DESCRIPTION:For WAA Members and invited guests.\nThere will be a surprise speaker! \nWAA_minutes-151020
URL:https://westerlyairportfriends.org/event/waa-dinner-meeting-7/
CATEGORIES:Meetings
END:VEVENT
END:VCALENDAR