BEGIN:VCALENDAR
VERSION:2.0
PRODID:-//Westerly Airport Association - ECPv6.15.18//NONSGML v1.0//EN
CALSCALE:GREGORIAN
METHOD:PUBLISH
X-WR-CALNAME:Westerly Airport Association
X-ORIGINAL-URL:https://westerlyairportfriends.org
X-WR-CALDESC:Events for Westerly Airport Association
REFRESH-INTERVAL;VALUE=DURATION:PT1H
X-Robots-Tag:noindex
X-PUBLISHED-TTL:PT1H
BEGIN:VTIMEZONE
TZID:America/New_York
BEGIN:DAYLIGHT
TZOFFSETFROM:-0500
TZOFFSETTO:-0400
TZNAME:EDT
DTSTART:20110313T070000
END:DAYLIGHT
BEGIN:STANDARD
TZOFFSETFROM:-0400
TZOFFSETTO:-0500
TZNAME:EST
DTSTART:20111106T060000
END:STANDARD
BEGIN:DAYLIGHT
TZOFFSETFROM:-0500
TZOFFSETTO:-0400
TZNAME:EDT
DTSTART:20120311T070000
END:DAYLIGHT
BEGIN:STANDARD
TZOFFSETFROM:-0400
TZOFFSETTO:-0500
TZNAME:EST
DTSTART:20121104T060000
END:STANDARD
BEGIN:DAYLIGHT
TZOFFSETFROM:-0500
TZOFFSETTO:-0400
TZNAME:EDT
DTSTART:20130310T070000
END:DAYLIGHT
BEGIN:STANDARD
TZOFFSETFROM:-0400
TZOFFSETTO:-0500
TZNAME:EST
DTSTART:20131103T060000
END:STANDARD
BEGIN:DAYLIGHT
TZOFFSETFROM:-0500
TZOFFSETTO:-0400
TZNAME:EDT
DTSTART:20140309T070000
END:DAYLIGHT
BEGIN:STANDARD
TZOFFSETFROM:-0400
TZOFFSETTO:-0500
TZNAME:EST
DTSTART:20141102T060000
END:STANDARD
BEGIN:DAYLIGHT
TZOFFSETFROM:-0500
TZOFFSETTO:-0400
TZNAME:EDT
DTSTART:20150308T070000
END:DAYLIGHT
BEGIN:STANDARD
TZOFFSETFROM:-0400
TZOFFSETTO:-0500
TZNAME:EST
DTSTART:20151101T060000
END:STANDARD
END:VTIMEZONE
BEGIN:VEVENT
DTSTART;TZID=America/New_York:20140318T190000
DTEND;TZID=America/New_York:20140318T210000
DTSTAMP:20260424T062547
CREATED:20140106T205133Z
LAST-MODIFIED:20140422T172954Z
UID:646-1395169200-1395176400@westerlyairportfriends.org
SUMMARY:WAA meeting
DESCRIPTION:WAA_minutes-140318
URL:https://westerlyairportfriends.org/event/waa-meeting-26/
LOCATION:WAA monthly meeting\, Dooney Aviation\, Westerly\, RI\, 02891\, United States
CATEGORIES:Meetings
END:VEVENT
BEGIN:VEVENT
DTSTART;TZID=America/New_York:20140218T190000
DTEND;TZID=America/New_York:20140218T210000
DTSTAMP:20260424T062547
CREATED:20131218T025134Z
LAST-MODIFIED:20140513T021804Z
UID:643-1392750000-1392757200@westerlyairportfriends.org
SUMMARY:WAA meeting
DESCRIPTION:WAA_minutes-140218
URL:https://westerlyairportfriends.org/event/waa-meeting-25/
LOCATION:WAA monthly meeting\, Dooney Aviation\, Westerly\, RI\, 02891\, United States
CATEGORIES:Meetings
END:VEVENT
BEGIN:VEVENT
DTSTART;TZID=America/New_York:20140128T190000
DTEND;TZID=America/New_York:20140128T210000
DTSTAMP:20260424T062547
CREATED:20131218T024906Z
LAST-MODIFIED:20140223T041256Z
UID:641-1390935600-1390942800@westerlyairportfriends.org
SUMMARY:WAA meeting
DESCRIPTION:WAA_minutes-140128
URL:https://westerlyairportfriends.org/event/waa-meeting-24/
LOCATION:WAA monthly meeting\, Dooney Aviation\, Westerly\, RI\, 02891\, United States
CATEGORIES:Meetings
END:VEVENT
BEGIN:VEVENT
DTSTART;TZID=America/New_York:20131217T180000
DTEND;TZID=America/New_York:20131217T210000
DTSTAMP:20260424T062547
CREATED:20130323T170356Z
LAST-MODIFIED:20140223T041206Z
UID:532-1387303200-1387314000@westerlyairportfriends.org
SUMMARY:WAA meeting and Holiday party
DESCRIPTION:WAA_minutes-131217
URL:https://westerlyairportfriends.org/event/waa-meeting-22/
LOCATION:WAA monthly meeting\, Dooney Aviation\, Westerly\, RI\, 02891\, United States
CATEGORIES:Meetings
END:VEVENT
BEGIN:VEVENT
DTSTART;TZID=America/New_York:20131119T190000
DTEND;TZID=America/New_York:20131119T210000
DTSTAMP:20260424T062547
CREATED:20130323T170232Z
LAST-MODIFIED:20140202T122032Z
UID:530-1384887600-1384894800@westerlyairportfriends.org
SUMMARY:WAA meeting
DESCRIPTION:WAA_minutes-131119
URL:https://westerlyairportfriends.org/event/waa-meeting-21/
LOCATION:WAA monthly meeting\, Dooney Aviation\, Westerly\, RI\, 02891\, United States
CATEGORIES:Meetings
END:VEVENT
BEGIN:VEVENT
DTSTART;TZID=America/New_York:20131018T180000
DTEND;TZID=America/New_York:20131018T210000
DTSTAMP:20260424T062547
CREATED:20130116T022504Z
LAST-MODIFIED:20130925T132519Z
UID:492-1382119200-1382130000@westerlyairportfriends.org
SUMMARY:Celebrating Aviation in the 30's and 40's
DESCRIPTION:Ocean House 6:00 PM to 9:00 PM. \nFeaturing live music by Johny and the East Coast Rockers and Jennifer Holden Piano – Eden Casteel Vocalist.\nVintage attire optional\, but encouraged. Hors d’oeuvres\, Cash Bar\, Silent Auction\, Dancing. Tickets $100 per person
URL:https://westerlyairportfriends.org/event/aviation-in-the-gilded-age-2/
LOCATION:Celebrating Aviation in the 30’s and 40’s\, Ocean House\, Watch Hill\, RI\, 02891\, United States
CATEGORIES:Events
END:VEVENT
BEGIN:VEVENT
DTSTART;TZID=America/New_York:20131015T190000
DTEND;TZID=America/New_York:20131015T210000
DTSTAMP:20260424T062547
CREATED:20130323T170033Z
LAST-MODIFIED:20131204T164243Z
UID:528-1381863600-1381870800@westerlyairportfriends.org
SUMMARY:WAA meeting
DESCRIPTION:WAA_minutes-131015
URL:https://westerlyairportfriends.org/event/waa-meeting-20/
LOCATION:WAA monthly meeting\, Westerly Airport Terminal meeting room\, Westerly\, RI\, 02891\, United States
CATEGORIES:Meetings
END:VEVENT
BEGIN:VEVENT
DTSTART;TZID=America/New_York:20131004T180000
DTEND;TZID=America/New_York:20131004T210000
DTSTAMP:20260424T062547
CREATED:20130918T150516Z
LAST-MODIFIED:20130926T024734Z
UID:609-1380909600-1380920400@westerlyairportfriends.org
SUMMARY:WAA dinner meeting
DESCRIPTION:For WAA Members and invited guests.\nCommittee Planning meeting: Celebrating Aviation in the 30’s and 40’s
URL:https://westerlyairportfriends.org/event/waa-dinner-meeting-2/
LOCATION:WAA special meeting Carol home\, Carol Amedeo home\, Westerly\, RI\, 02891\, United States
CATEGORIES:Meetings
END:VEVENT
BEGIN:VEVENT
DTSTART;TZID=America/New_York:20130917T190000
DTEND;TZID=America/New_York:20130917T210000
DTSTAMP:20260424T062547
CREATED:20130118T171254Z
LAST-MODIFIED:20131016T020517Z
UID:508-1379444400-1379451600@westerlyairportfriends.org
SUMMARY:WAA meeting
DESCRIPTION:WAA_minutes-130917
URL:https://westerlyairportfriends.org/event/waa-meeting-19/
LOCATION:RI
CATEGORIES:Meetings
END:VEVENT
BEGIN:VEVENT
DTSTART;TZID=America/New_York:20130907T100000
DTEND;TZID=America/New_York:20130907T150000
DTSTAMP:20260424T062547
CREATED:20130116T020803Z
LAST-MODIFIED:20140804T204901Z
UID:484-1378548000-1378566000@westerlyairportfriends.org
SUMMARY:Wings Over Westerly 2013
DESCRIPTION:Wings Over Westerly WOW 2013 will be held again this year at the Westerly State Airport (WST). Free Admission.
URL:https://westerlyairportfriends.org/event/wings-over-westerly-2013/
LOCATION:Westerly State Airport\, 56 Airport Rd\, Westerly\, RI\, 02891\, United States
CATEGORIES:Events
END:VEVENT
BEGIN:VEVENT
DTSTART;TZID=America/New_York:20130826T190000
DTEND;TZID=America/New_York:20130826T210000
DTSTAMP:20260424T062547
CREATED:20130826T145734Z
LAST-MODIFIED:20130826T145734Z
UID:590-1377543600-1377550800@westerlyairportfriends.org
SUMMARY:WAA WOW 2013 Meeting
DESCRIPTION:
URL:https://westerlyairportfriends.org/event/waa-wow-2013-meeting-2/
LOCATION:WAA WOW 2013 Meeting\, Dooney Aviation\, Westerly\, RI\, 02891\, United States
CATEGORIES:Meetings
END:VEVENT
BEGIN:VEVENT
DTSTART;TZID=America/New_York:20130820T190000
DTEND;TZID=America/New_York:20130820T210000
DTSTAMP:20260424T062547
CREATED:20130118T171032Z
LAST-MODIFIED:20130918T141052Z
UID:505-1377025200-1377032400@westerlyairportfriends.org
SUMMARY:WAA meeting
DESCRIPTION:WAA_minutes-130820
URL:https://westerlyairportfriends.org/event/waa-meeting-18/
LOCATION:WAA monthly meeting\, Dooney Aviation\, Westerly\, RI\, 02891\, United States
CATEGORIES:Meetings
END:VEVENT
BEGIN:VEVENT
DTSTART;TZID=America/New_York:20130812T180000
DTEND;TZID=America/New_York:20130812T200000
DTSTAMP:20260424T062547
CREATED:20130717T165454Z
LAST-MODIFIED:20130810T000236Z
UID:579-1376330400-1376337600@westerlyairportfriends.org
SUMMARY:WAA WOW 2013 Meeting
DESCRIPTION:
URL:https://westerlyairportfriends.org/event/waa-wow-2013-meeting/
LOCATION:WAA WOW 2013 Meeting\, Dooney Aviation\, Westerly\, RI\, 02891\, United States
CATEGORIES:Meetings
END:VEVENT
BEGIN:VEVENT
DTSTART;TZID=America/New_York:20130723T180000
DTEND;TZID=America/New_York:20130723T210000
DTSTAMP:20260424T062547
CREATED:20130717T170021Z
LAST-MODIFIED:20130717T170021Z
UID:581-1374602400-1374613200@westerlyairportfriends.org
SUMMARY:Ocean House 2013 planning
DESCRIPTION:
URL:https://westerlyairportfriends.org/event/ocean-house-2013-planning/
LOCATION:WAA special meeting Inn\, Pleasant View Inn\, Misquamicut\, Westerly\, RI\, 02891\, United States
CATEGORIES:Meetings
END:VEVENT
BEGIN:VEVENT
DTSTART;TZID=America/New_York:20130716T190000
DTEND;TZID=America/New_York:20130716T210000
DTSTAMP:20260424T062547
CREATED:20130118T170744Z
LAST-MODIFIED:20130814T192658Z
UID:501-1374001200-1374008400@westerlyairportfriends.org
SUMMARY:WAA meeting
DESCRIPTION:WAA_minutes-130716
URL:https://westerlyairportfriends.org/event/waa-meeting-17/
LOCATION:WAA monthly meeting\, Dooney Aviation\, Westerly\, RI\, 02891\, United States
CATEGORIES:Meetings
END:VEVENT
BEGIN:VEVENT
DTSTART;TZID=America/New_York:20130630T080000
DTEND;TZID=America/New_York:20130630T130000
DTSTAMP:20260424T062547
CREATED:20130116T021601Z
LAST-MODIFIED:20130529T011845Z
UID:489-1372579200-1372597200@westerlyairportfriends.org
SUMMARY:Summer Pancake Breakfast
DESCRIPTION:Blueberry\, strawberry\, or plain pancakes (with real maple syrup\, flown in from Vermont!) bacon\, sausage\, coffee\, juice. Gluten-free pancakes on request!  Adults $7\, children under 12: $4
URL:https://westerlyairportfriends.org/event/summer-pancake-breakfast-2/
LOCATION:Pancake Breakfast\, Dooney Aviation\, Westerly\, RI\, 02891\, United States
CATEGORIES:Events
END:VEVENT
BEGIN:VEVENT
DTSTART;TZID=America/New_York:20130618T190000
DTEND;TZID=America/New_York:20130618T210000
DTSTAMP:20260424T062547
CREATED:20130116T023318Z
LAST-MODIFIED:20130814T192319Z
UID:498-1371582000-1371589200@westerlyairportfriends.org
SUMMARY:WAA meeting
DESCRIPTION:WAA_minutes-130618
URL:https://westerlyairportfriends.org/event/waa-meeting-16/
LOCATION:WAA monthly meeting\, Dooney Aviation\, Westerly\, RI\, 02891\, United States
CATEGORIES:Meetings
END:VEVENT
BEGIN:VEVENT
DTSTART;TZID=America/New_York:20130521T180000
DTEND;TZID=America/New_York:20130521T210000
DTSTAMP:20260424T062547
CREATED:20130116T023054Z
LAST-MODIFIED:20130618T164212Z
UID:495-1369159200-1369170000@westerlyairportfriends.org
SUMMARY:WAA dinner meeting
DESCRIPTION:with Scholarship winners. \nWAA_minutes-130521
URL:https://westerlyairportfriends.org/event/waa-meeting-15/
LOCATION:WAA monthly meeting\, Haversham Tavern\, Westerly\, RI\, 02891\, United States
CATEGORIES:Meetings
END:VEVENT
BEGIN:VEVENT
DTSTART;TZID=America/New_York:20130416T190000
DTEND;TZID=America/New_York:20130416T210000
DTSTAMP:20260424T062547
CREATED:20130115T224922Z
LAST-MODIFIED:20130618T161524Z
UID:473-1366138800-1366146000@westerlyairportfriends.org
SUMMARY:WAA meeting
DESCRIPTION:WAA_minutes-130416
URL:https://westerlyairportfriends.org/event/waa-meeting-14/
LOCATION:WAA monthly meeting\, Dooney Aviation\, Westerly\, RI\, 02891\, United States
CATEGORIES:Meetings
END:VEVENT
BEGIN:VEVENT
DTSTART;TZID=America/New_York:20130403T180000
DTEND;TZID=America/New_York:20130403T210000
DTSTAMP:20260424T062547
CREATED:20130402T005214Z
LAST-MODIFIED:20130717T170954Z
UID:535-1365012000-1365022800@westerlyairportfriends.org
SUMMARY:WAA dinner meeting
DESCRIPTION:For WAA Members and invited guests.\nPlanning meeting: Celebrating Aviation in the 1940’s
URL:https://westerlyairportfriends.org/event/waa-meeting-23/
LOCATION:RI
CATEGORIES:Meetings
END:VEVENT
BEGIN:VEVENT
DTSTART;TZID=America/New_York:20130319T190000
DTEND;TZID=America/New_York:20130319T210000
DTSTAMP:20260424T062547
CREATED:20130115T224021Z
LAST-MODIFIED:20130408T042019Z
UID:471-1363719600-1363726800@westerlyairportfriends.org
SUMMARY:WAA meeting
DESCRIPTION:WAA_minutes-130319
URL:https://westerlyairportfriends.org/event/waa-meeting-13/
LOCATION:RI
CATEGORIES:Meetings
END:VEVENT
BEGIN:VEVENT
DTSTART;TZID=America/New_York:20130219T190000
DTEND;TZID=America/New_York:20130219T210000
DTSTAMP:20260424T062547
CREATED:20130115T223738Z
LAST-MODIFIED:20130408T042418Z
UID:468-1361300400-1361307600@westerlyairportfriends.org
SUMMARY:WAA meeting
DESCRIPTION:WAA_minutes-130219
URL:https://westerlyairportfriends.org/event/waa-meeting-12/
LOCATION:WAA monthly meeting\, Dooney Aviation\, Westerly\, RI\, 02891\, United States
CATEGORIES:Meetings
END:VEVENT
BEGIN:VEVENT
DTSTART;TZID=America/New_York:20130209T100000
DTEND;TZID=America/New_York:20130209T123000
DTSTAMP:20260424T062547
CREATED:20130116T015703Z
LAST-MODIFIED:20130206T231407Z
UID:476-1360404000-1360413000@westerlyairportfriends.org
SUMMARY:FAA Safety seminar
DESCRIPTION:THIS EVENT HAS BEEN CANCELED by FAA on Feb 6\, due to weather on Feb 9. \nNon Towered Airport Communications. See FAA Safety Seminar \nFood after the seminar.
URL:https://westerlyairportfriends.org/event/faa-safety-seminar/
LOCATION:safety seminar\, Dooney Aviation\, 66 Tom Harvey Rd\, Westerly\, RI\, 02891\, United States
CATEGORIES:Meetings
END:VEVENT
BEGIN:VEVENT
DTSTART;TZID=America/New_York:20130115T190000
DTEND;TZID=America/New_York:20130115T210000
DTSTAMP:20260424T062547
CREATED:20130115T223411Z
LAST-MODIFIED:20130918T144145Z
UID:465-1358276400-1358283600@westerlyairportfriends.org
SUMMARY:WAA meeting
DESCRIPTION:WAA_minutes-130115
URL:https://westerlyairportfriends.org/event/waa-meeting-11/
LOCATION:WAA monthly meeting\, Dooney Aviation\, Westerly\, RI\, 02891\, United States
CATEGORIES:Meetings
END:VEVENT
BEGIN:VEVENT
DTSTART;TZID=America/New_York:20121222T180000
DTEND;TZID=America/New_York:20121222T210000
DTSTAMP:20260424T062547
CREATED:20120928T174106Z
LAST-MODIFIED:20130314T135036Z
UID:374-1356199200-1356210000@westerlyairportfriends.org
SUMMARY:WAA Xmas party and meeting
DESCRIPTION:For WAA Members\, the Amedeo Family\, and invited guests. \nAt the meeting Bernie Stumpf was confirmed president. Vice-president: Mike Ferrigno. Sandy Niles: secretary.
URL:https://westerlyairportfriends.org/event/waa-xmas-party-and-meeting/
LOCATION:WAA Xmas party and meeting\, Carol Amedeo home\, Westerly\, 02891\, United States
CATEGORIES:Events,Meetings
END:VEVENT
BEGIN:VEVENT
DTSTART;TZID=America/New_York:20121212T190000
DTEND;TZID=America/New_York:20121212T210000
DTSTAMP:20260424T062547
CREATED:20121120T030845Z
LAST-MODIFIED:20121130T144643Z
UID:421-1355338800-1355346000@westerlyairportfriends.org
SUMMARY:WAA Board of Directors meeting
DESCRIPTION:
URL:https://westerlyairportfriends.org/event/waa-board-of-directors-meeting-2/
LOCATION:WAA Board of Directors meeting\, 48 Old Hopkinton Cemetery Rd\, Ashaway\, RI\, 02804\, United States
CATEGORIES:Meetings
END:VEVENT
BEGIN:VEVENT
DTSTART;TZID=America/New_York:20121119T190000
DTEND;TZID=America/New_York:20121119T210000
DTSTAMP:20260424T062547
CREATED:20120829T195014Z
LAST-MODIFIED:20121130T145849Z
UID:306-1353351600-1353358800@westerlyairportfriends.org
SUMMARY:WAA meeting
DESCRIPTION:WAA_minutes-121119.pdf
URL:https://westerlyairportfriends.org/event/waa-meeting-5/
LOCATION:WAA monthly meeting\, Dooney Aviation\, Westerly\, RI\, 02891\, United States
CATEGORIES:Meetings
END:VEVENT
BEGIN:VEVENT
DTSTART;TZID=America/New_York:20121015T190000
DTEND;TZID=America/New_York:20121015T210000
DTSTAMP:20260424T062547
CREATED:20120821T142521Z
LAST-MODIFIED:20121116T220102Z
UID:276-1350327600-1350334800@westerlyairportfriends.org
SUMMARY:WAA meeting
DESCRIPTION:WAA_minutes-121015.pdf
URL:https://westerlyairportfriends.org/event/waa-meeting-4/
LOCATION:WAA monthly meeting\, Dooney Aviation\, Westerly\, RI\, 02891\, United States
CATEGORIES:Meetings
END:VEVENT
BEGIN:VEVENT
DTSTART;TZID=America/New_York:20121013T100000
DTEND;TZID=America/New_York:20121013T150000
DTSTAMP:20260424T062547
CREATED:20121201T192906Z
LAST-MODIFIED:20121201T192906Z
UID:458-1350122400-1350140400@westerlyairportfriends.org
SUMMARY:Wings Over Westerly 2012: Young Eagles fly
DESCRIPTION:About 32 kids got to fly\, with 5 pilots participating. Weather was perfect this time.
URL:https://westerlyairportfriends.org/event/wings-over-westerly-2012-young-eagles-fly/
LOCATION:Wings Over Westerly: Young Eagles fly\, Westerly Airport\, Flight Level\, Westerly\, RI\, 02891\, United States
CATEGORIES:Events
END:VEVENT
BEGIN:VEVENT
DTSTART;TZID=America/New_York:20120929T100000
DTEND;TZID=America/New_York:20120929T150000
DTSTAMP:20260424T062547
CREATED:20120726T194438Z
LAST-MODIFIED:20120928T184442Z
UID:125-1348912800-1348930800@westerlyairportfriends.org
SUMMARY:Wings Over Westerly 2012
DESCRIPTION:Wings Over Westerly WOW 2012 will be held again this year at the Westerly State Airport (WST). Free Admission.
URL:https://westerlyairportfriends.org/event/wings-over-westerly-2012/
LOCATION:Westerly State Airport\, 56 Airport Rd\, Westerly\, RI\, 02891\, United States
CATEGORIES:Events
END:VEVENT
END:VCALENDAR