BEGIN:VCALENDAR
VERSION:2.0
PRODID:-//Westerly Airport Association - ECPv6.15.18//NONSGML v1.0//EN
CALSCALE:GREGORIAN
METHOD:PUBLISH
X-ORIGINAL-URL:https://westerlyairportfriends.org
X-WR-CALDESC:Events for Westerly Airport Association
REFRESH-INTERVAL;VALUE=DURATION:PT1H
X-Robots-Tag:noindex
X-PUBLISHED-TTL:PT1H
BEGIN:VTIMEZONE
TZID:America/New_York
BEGIN:DAYLIGHT
TZOFFSETFROM:-0500
TZOFFSETTO:-0400
TZNAME:EDT
DTSTART:20170312T070000
END:DAYLIGHT
BEGIN:STANDARD
TZOFFSETFROM:-0400
TZOFFSETTO:-0500
TZNAME:EST
DTSTART:20171105T060000
END:STANDARD
BEGIN:DAYLIGHT
TZOFFSETFROM:-0500
TZOFFSETTO:-0400
TZNAME:EDT
DTSTART:20180311T070000
END:DAYLIGHT
BEGIN:STANDARD
TZOFFSETFROM:-0400
TZOFFSETTO:-0500
TZNAME:EST
DTSTART:20181104T060000
END:STANDARD
BEGIN:DAYLIGHT
TZOFFSETFROM:-0500
TZOFFSETTO:-0400
TZNAME:EDT
DTSTART:20190310T070000
END:DAYLIGHT
BEGIN:STANDARD
TZOFFSETFROM:-0400
TZOFFSETTO:-0500
TZNAME:EST
DTSTART:20191103T060000
END:STANDARD
BEGIN:DAYLIGHT
TZOFFSETFROM:-0500
TZOFFSETTO:-0400
TZNAME:EDT
DTSTART:20200308T070000
END:DAYLIGHT
BEGIN:STANDARD
TZOFFSETFROM:-0400
TZOFFSETTO:-0500
TZNAME:EST
DTSTART:20201101T060000
END:STANDARD
END:VTIMEZONE
BEGIN:VEVENT
DTSTART;TZID=America/New_York:20190521T180000
DTEND;TZID=America/New_York:20190521T210000
DTSTAMP:20260423T142539
CREATED:20190223T023011Z
LAST-MODIFIED:20190620T030703Z
UID:1733-1558461600-1558472400@westerlyairportfriends.org
SUMMARY:WAA meeting
DESCRIPTION:For WAA Members and invited guests. \nConference room of the Westerly Airport main terminal building. After entering through the front doors\, go down the corridor to the right. The conference room is the last door on the right. \nMeeting begins with a light supper. \nWAA_minutes-190521
URL:https://westerlyairportfriends.org/event/waa-meeting-79/
LOCATION:WAA monthly meeting Terminal\, 56 Airport Rd\, Westerly\, RI\, 02891\, United States
CATEGORIES:Meetings
END:VEVENT
BEGIN:VEVENT
DTSTART;TZID=America/New_York:20190503T180000
DTEND;TZID=America/New_York:20190503T220000
DTSTAMP:20260423T142539
CREATED:20181004T185441Z
LAST-MODIFIED:20190307T232620Z
UID:1633-1556906400-1556920800@westerlyairportfriends.org
SUMMARY:Celebrating Aviation in the Roaring Twenties
DESCRIPTION:The Westerly Airport Association Presents\nCelebrating Aviation In the Roaring 20’s \nto benefit the Westerly Airport Association’s\nHumphrey J. Amedeo Jr. Aviation Scholarship Foundation\nFriday\, May 3\, 2019\nat the magnificent\nOcean House.\nBluff Avenue\, Watch Hill\, Rhode island\n6:00pm to 10:00pm \nTickets $125 per person \nTo order tickets scroll down to the bottom left. \n\n \n—- \n\n \n\n\n\nyour note
URL:https://westerlyairportfriends.org/event/celebrating-aviation-in-the-roaring-twenties/
LOCATION:Celebrating Aviation Ocean House\, Ocean House\, 1 Bluff Ave.\, Watch Hill\, RI\, 02891\, United States
CATEGORIES:Events
END:VEVENT
BEGIN:VEVENT
DTSTART;TZID=America/New_York:20190416T180000
DTEND;TZID=America/New_York:20190416T210000
DTSTAMP:20260423T142539
CREATED:20190206T014648Z
LAST-MODIFIED:20190427T132018Z
UID:1717-1555437600-1555448400@westerlyairportfriends.org
SUMMARY:WAA meeting
DESCRIPTION:For WAA Members and invited guests. \nMeeting begins with a light supper. \nWAA_minutes-190416
URL:https://westerlyairportfriends.org/event/waa-meeting-78/
LOCATION:WAA monthly meeting Sea Goose\, The Sea Goose\,265 Post Rd\, Westerly\, RI\, 02891\, United States
CATEGORIES:Meetings
END:VEVENT
BEGIN:VEVENT
DTSTART;TZID=America/New_York:20190319T180000
DTEND;TZID=America/New_York:20190319T210000
DTSTAMP:20260423T142539
CREATED:20190206T014246Z
LAST-MODIFIED:20190329T181436Z
UID:1715-1553018400-1553029200@westerlyairportfriends.org
SUMMARY:WAA meeting
DESCRIPTION:For WAA Members and invited guests. \nConference room of the Westerly Airport main terminal building. After entering through the front doors\, go down the corridor to the right. The conference room is the last door on the right. \nMeeting begins with a light supper.\nWAA_minutes-190319 \n 
URL:https://westerlyairportfriends.org/event/waa-meeting-77/
LOCATION:WAA monthly meeting Terminal\, 56 Airport Rd\, Westerly\, RI\, 02891\, United States
CATEGORIES:Meetings
END:VEVENT
BEGIN:VEVENT
DTSTART;TZID=America/New_York:20190223T083000
DTEND;TZID=America/New_York:20190223T103000
DTSTAMP:20260423T142539
CREATED:20190223T021741Z
LAST-MODIFIED:20190223T021741Z
UID:1730-1550910600-1550917800@westerlyairportfriends.org
SUMMARY:Ocean House 2019 Gala planning meeting
DESCRIPTION:For WAA Members and invited guests. Conference room of the Westerly Airport main terminal building.\nAfter entering through the front doors\, go down the corridor to the right. The conference room is the last door on the right.
URL:https://westerlyairportfriends.org/event/ocean-house-2019-gala-planning-meeting-5/
LOCATION:WAA planning meeting Terminal\, 56 Airport Rd\, Westerly\, RI\, 02891\, United States
CATEGORIES:Meetings
END:VEVENT
BEGIN:VEVENT
DTSTART;TZID=America/New_York:20190219T210000
DTEND;TZID=America/New_York:20190219T210000
DTSTAMP:20260423T142539
CREATED:20190205T225350Z
LAST-MODIFIED:20190223T124401Z
UID:1690-1550610000-1550610000@westerlyairportfriends.org
SUMMARY:WAA meeting
DESCRIPTION:For WAA Members and invited guests. \nWAA_minutes-190219
URL:https://westerlyairportfriends.org/event/waa-meeting-76/
LOCATION:WAA dinner meeting Buon\, Buon Appetito Ristorante\, North Stonington\, CT\, 06359\, United States
CATEGORIES:Meetings
END:VEVENT
BEGIN:VEVENT
DTSTART;TZID=America/New_York:20190202T083000
DTEND;TZID=America/New_York:20190202T110000
DTSTAMP:20260423T142539
CREATED:20190223T021313Z
LAST-MODIFIED:20190223T021313Z
UID:1728-1549096200-1549105200@westerlyairportfriends.org
SUMMARY:Ocean House 2019 Gala planning meeting
DESCRIPTION:For WAA Members and invited guests. Conference room of the Westerly Airport main terminal building.\nAfter entering through the front doors\, go down the corridor to the right. The conference room is the last door on the right.
URL:https://westerlyairportfriends.org/event/ocean-house-2019-gala-planning-meeting-4/
LOCATION:WAA planning meeting Terminal\, 56 Airport Rd\, Westerly\, RI\, 02891\, United States
CATEGORIES:Meetings
END:VEVENT
BEGIN:VEVENT
DTSTART;TZID=America/New_York:20190115T180000
DTEND;TZID=America/New_York:20190115T210000
DTSTAMP:20260423T142539
CREATED:20190112T013000Z
LAST-MODIFIED:20190121T203740Z
UID:1668-1547575200-1547586000@westerlyairportfriends.org
SUMMARY:WAA meeting
DESCRIPTION:For WAA Members and invited guests. \nConference room of the Westerly Airport main terminal building. After entering through the front doors\, go down the corridor to the right. The conference room is the last door on the right. \nMeeting begins with a light supper. \nWAA_minutes-190115
URL:https://westerlyairportfriends.org/event/waa-meeting-75/
LOCATION:WAA monthly meeting Terminal\, 56 Airport Rd\, Westerly\, RI\, 02891\, United States
CATEGORIES:Meetings
END:VEVENT
BEGIN:VEVENT
DTSTART;TZID=America/New_York:20190112T083000
DTEND;TZID=America/New_York:20190112T103000
DTSTAMP:20260423T142539
CREATED:20190223T020740Z
LAST-MODIFIED:20190223T020740Z
UID:1726-1547281800-1547289000@westerlyairportfriends.org
SUMMARY:Board of Directors meeting
DESCRIPTION:For WAA Members and invited guests. Conference room of the Westerly Airport main terminal building.\nAfter entering through the front doors\, go down the corridor to the right. The conference room is the last door on the right.
URL:https://westerlyairportfriends.org/event/board-of-directors-meeting/
LOCATION:WAA Board of Directors meeting Terminal\, 56 Airport Rd\, Westerly\, RI\, 02891\, United States
CATEGORIES:Meetings
END:VEVENT
BEGIN:VEVENT
DTSTART;TZID=America/New_York:20181218T180000
DTEND;TZID=America/New_York:20181218T210000
DTSTAMP:20260423T142539
CREATED:20181124T024559Z
LAST-MODIFIED:20181124T024559Z
UID:1664-1545156000-1545166800@westerlyairportfriends.org
SUMMARY:WAA meeting
DESCRIPTION:For WAA Members and invited guests.
URL:https://westerlyairportfriends.org/event/waa-meeting-74/
LOCATION:WAA dinner meeting Buon\, Buon Appetito Ristorante\, North Stonington\, CT\, 06359\, United States
CATEGORIES:Meetings
END:VEVENT
BEGIN:VEVENT
DTSTART;TZID=America/New_York:20181120T180000
DTEND;TZID=America/New_York:20181120T210000
DTSTAMP:20260423T142539
CREATED:20181017T132551Z
LAST-MODIFIED:20181124T020910Z
UID:1650-1542736800-1542747600@westerlyairportfriends.org
SUMMARY:WAA  meeting
DESCRIPTION:For WAA Members and invited guests. \nConference room of the Westerly Airport main terminal building. After entering through the front doors\, go down the corridor to the right. The conference room is the last door on the right. \nMeeting begins with a light supper.\nWAA_minutes-181120
URL:https://westerlyairportfriends.org/event/waa-meeting-73/
LOCATION:WAA monthly meeting Terminal\, 56 Airport Rd\, Westerly\, RI\, 02891\, United States
CATEGORIES:Meetings
END:VEVENT
BEGIN:VEVENT
DTSTART;TZID=America/New_York:20181114T113000
DTEND;TZID=America/New_York:20181114T133000
DTSTAMP:20260423T142539
CREATED:20190223T015343Z
LAST-MODIFIED:20190223T020932Z
UID:1721-1542195000-1542202200@westerlyairportfriends.org
SUMMARY:Ocean House 2019 Gala planning meeting
DESCRIPTION:For WAA Members and invited guests. Conference room of the Westerly Airport main terminal building.\nAfter entering through the front doors\, go down the corridor to the right. The conference room is the last door on the right.
URL:https://westerlyairportfriends.org/event/ocean-house-2019-gala-planning-meeting-3/
LOCATION:WAA planning meeting Terminal\, 56 Airport Rd\, Westerly\, RI\, 02891\, United States
CATEGORIES:Meetings
END:VEVENT
BEGIN:VEVENT
DTSTART;TZID=America/New_York:20181020T083000
DTEND;TZID=America/New_York:20181020T103000
DTSTAMP:20260423T142539
CREATED:20181017T131419Z
LAST-MODIFIED:20181017T131623Z
UID:1645-1540024200-1540031400@westerlyairportfriends.org
SUMMARY:Ocean House 2019 Gala planning meeting
DESCRIPTION:For WAA Members and invited guests. \nConference room of the Westerly Airport main terminal building. After entering through the front doors\, go down the corridor to the right. The conference room is the last door on the right.
URL:https://westerlyairportfriends.org/event/ocean-house-2019-gala-planning-meeting-2/
LOCATION:WAA planning meeting Terminal\, 56 Airport Rd\, Westerly\, RI\, 02891\, United States
CATEGORIES:Meetings
END:VEVENT
BEGIN:VEVENT
DTSTART;TZID=America/New_York:20181016T180000
DTEND;TZID=America/New_York:20181016T210000
DTSTAMP:20260423T142539
CREATED:20181004T183502Z
LAST-MODIFIED:20181022T003427Z
UID:1631-1539712800-1539723600@westerlyairportfriends.org
SUMMARY:WAA meeting
DESCRIPTION:For WAA Members and invited guests. \nWAA_minutes-181016
URL:https://westerlyairportfriends.org/event/waa-meeting-72/
LOCATION:WAA dinner meeting Buon\, Buon Appetito Ristorante\, North Stonington\, CT\, 06359\, United States
CATEGORIES:Meetings
END:VEVENT
BEGIN:VEVENT
DTSTART;TZID=America/New_York:20181011T190000
DTEND;TZID=America/New_York:20181011T190000
DTSTAMP:20260423T142539
CREATED:20180917T194045Z
LAST-MODIFIED:20190223T023811Z
UID:1628-1539284400-1539284400@westerlyairportfriends.org
SUMMARY:EAA Chapter 334 Meeting
DESCRIPTION:Subject: possible Cooperation EAA 334 and CAP.
URL:https://westerlyairportfriends.org/event/eaa-chapter-334-meeting-2/
LOCATION:WAA planning meeting Dooney\, Dooney Aviation\, Westerly\, RI\, 02891\, United States
CATEGORIES:Meetings
END:VEVENT
BEGIN:VEVENT
DTSTART;TZID=America/New_York:20180929T120000
DTEND;TZID=America/New_York:20180929T140000
DTSTAMP:20260423T142539
CREATED:20180917T192545Z
LAST-MODIFIED:20181005T134614Z
UID:1626-1538222400-1538229600@westerlyairportfriends.org
SUMMARY:WAA  meeting
DESCRIPTION:For WAA Members and invited guests. \nConference room of the Westerly Airport main terminal building. After entering through the front doors\, go down the corridor to the right. The conference room is the last door on the right. \nMeeting begins with a light supper. \nWAA_minutes-180929
URL:https://westerlyairportfriends.org/event/waa-meeting-71/
LOCATION:WAA monthly meeting Terminal\, 56 Airport Rd\, Westerly\, RI\, 02891\, United States
CATEGORIES:Meetings
END:VEVENT
BEGIN:VEVENT
DTSTART;TZID=America/New_York:20180821T180000
DTEND;TZID=America/New_York:20180821T210000
DTSTAMP:20260423T142539
CREATED:20180606T145511Z
LAST-MODIFIED:20180824T200538Z
UID:1574-1534874400-1534885200@westerlyairportfriends.org
SUMMARY:WAA monthly meeting
DESCRIPTION:For WAA Members and invited guests. \nWAA_minutes-180821
URL:https://westerlyairportfriends.org/event/waa-monthly-meeting-2/
LOCATION:WAA monthly meeting Sea Goose\, The Sea Goose\,265 Post Rd\, Westerly\, RI\, 02891\, United States
CATEGORIES:Meetings
END:VEVENT
BEGIN:VEVENT
DTSTART;TZID=America/New_York:20180814T180000
DTEND;TZID=America/New_York:20180814T210000
DTSTAMP:20260423T142539
CREATED:20180714T190127Z
LAST-MODIFIED:20180714T192034Z
UID:1609-1534269600-1534280400@westerlyairportfriends.org
SUMMARY:WAA Golf committee meeting
DESCRIPTION:For WAA Members and invited guests. \nConference room of the Westerly Airport main terminal building.\nAfter entering through the front doors\, go down the corridor to the right.\nThe conference room is the last door on the right.
URL:https://westerlyairportfriends.org/event/waa-golf-committee-meeting-14/
LOCATION:WAA planning meeting Terminal\, 56 Airport Rd\, Westerly\, RI\, 02891\, United States
CATEGORIES:Meetings
END:VEVENT
BEGIN:VEVENT
DTSTART;TZID=America/New_York:20180807T180000
DTEND;TZID=America/New_York:20180807T210000
DTSTAMP:20260423T142539
CREATED:20180714T185830Z
LAST-MODIFIED:20180714T185830Z
UID:1607-1533664800-1533675600@westerlyairportfriends.org
SUMMARY:WAA Golf committee meeting
DESCRIPTION:For WAA Members and invited guests. \nConference room of the Westerly Airport main terminal building. After entering through the front doors\, go down the corridor to the right. The conference room is the last door on the right.
URL:https://westerlyairportfriends.org/event/waa-golf-committee-meeting-13/
LOCATION:WAA planning meeting Terminal\, 56 Airport Rd\, Westerly\, RI\, 02891\, United States
CATEGORIES:Meetings
END:VEVENT
BEGIN:VEVENT
DTSTART;TZID=America/New_York:20180728T080000
DTEND;TZID=America/New_York:20180728T100000
DTSTAMP:20260423T142539
CREATED:20180724T012024Z
LAST-MODIFIED:20180724T012024Z
UID:1616-1532764800-1532772000@westerlyairportfriends.org
SUMMARY:Ocean House 2019 Gala planning meeting
DESCRIPTION:For WAA Members and invited guests.
URL:https://westerlyairportfriends.org/event/ocean-house-2019-gala-planning-meeting/
LOCATION:WAA planning meeting Ocean House\, Ocean House\, 1 Bluff Ave.\, Watch Hill\, RI\, 02891\, United States
CATEGORIES:Meetings
END:VEVENT
BEGIN:VEVENT
DTSTART;TZID=America/New_York:20180717T180000
DTEND;TZID=America/New_York:20180717T210000
DTSTAMP:20260423T142539
CREATED:20180606T145108Z
LAST-MODIFIED:20180720T135538Z
UID:1572-1531850400-1531861200@westerlyairportfriends.org
SUMMARY:WAA monthly meeting
DESCRIPTION:For WAA Members and invited guests.\nConference room of the Westerly Airport main terminal building.\nAfter entering through the front doors\, go down the corridor to the right.\nThe conference room is the last door on the right.\nMeeting begins with a light supper. \nWAA_minutes-180717
URL:https://westerlyairportfriends.org/event/waa-monthly-meeting/
LOCATION:WAA monthly meeting Terminal\, 56 Airport Rd\, Westerly\, RI\, 02891\, United States
CATEGORIES:Meetings
END:VEVENT
BEGIN:VEVENT
DTSTART;TZID=America/New_York:20180708T120000
DTEND;TZID=America/New_York:20180708T150000
DTSTAMP:20260423T142539
CREATED:20180524T205405Z
LAST-MODIFIED:20180630T221416Z
UID:1560-1531051200-1531062000@westerlyairportfriends.org
SUMMARY:CANCELED Young Eagles Over Westerly 2018
DESCRIPTION:DUE TO CIRCUMSTANCES BEYOND OUR CONTROL\, WE MUST CANCEL THIS YOUNG EAGLES RALLY. \nYoung Eagles Over Westerly 2018 may be held again later this year at the Westerly State Airport (WST). Free Admission.
URL:https://westerlyairportfriends.org/event/young-eagles-over-westerly-2018/
LOCATION:WAA planning meeting Terminal\, 56 Airport Rd\, Westerly\, RI\, 02891\, United States
CATEGORIES:Events
END:VEVENT
BEGIN:VEVENT
DTSTART;TZID=America/New_York:20180619T180000
DTEND;TZID=America/New_York:20180619T210000
DTSTAMP:20260423T142539
CREATED:20180424T140618Z
LAST-MODIFIED:20180707T020857Z
UID:1532-1529431200-1529442000@westerlyairportfriends.org
SUMMARY:WAA dinner meeting
DESCRIPTION:For WAA Members and invited guests. \nWAA_minutes-180619
URL:https://westerlyairportfriends.org/event/waa-meeting-70/
LOCATION:WAA monthly meeting Inn\, Pleasant View Inn\, 65 Atlantic Ave\, Westerly\, RI\, 02891\, United States
CATEGORIES:Meetings
END:VEVENT
BEGIN:VEVENT
DTSTART;TZID=America/New_York:20180614T190000
DTEND;TZID=America/New_York:20180614T190000
DTSTAMP:20260423T142539
CREATED:20180522T204608Z
LAST-MODIFIED:20180523T164411Z
UID:1550-1529002800-1529002800@westerlyairportfriends.org
SUMMARY:EAA Chapter 334 Meeting
DESCRIPTION:Speaker: Don LeRoi: designer\, builder and pilot of custom made drones (UAV’s) for the National Science Foundation and participant in scientific expeditions in Antarctica.
URL:https://westerlyairportfriends.org/event/eaa-chapter-334-meeting/
LOCATION:WAA planning meeting Dooney\, Dooney Aviation\, Westerly\, RI\, 02891\, United States
END:VEVENT
BEGIN:VEVENT
DTSTART;TZID=America/New_York:20180613T180000
DTEND;TZID=America/New_York:20180613T200000
DTSTAMP:20260423T142539
CREATED:20180522T140540Z
LAST-MODIFIED:20180522T140540Z
UID:1543-1528912800-1528920000@westerlyairportfriends.org
SUMMARY:WAA Golf committee meeting
DESCRIPTION:For WAA Members and invited guests. \nConference room of the Westerly Airport main terminal building. After entering through the front doors\, go down the corridor to the right. The conference room is the last door on the right.
URL:https://westerlyairportfriends.org/event/waa-golf-committee-meeting-12/
LOCATION:WAA planning meeting Terminal\, 56 Airport Rd\, Westerly\, RI\, 02891\, United States
CATEGORIES:Meetings
END:VEVENT
BEGIN:VEVENT
DTSTART;TZID=America/New_York:20180605T180000
DTEND;TZID=America/New_York:20180605T200000
DTSTAMP:20260423T142539
CREATED:20180602T114429Z
LAST-MODIFIED:20180602T114429Z
UID:1563-1528221600-1528228800@westerlyairportfriends.org
SUMMARY:WAA Pancake Breakfast planning meeting
DESCRIPTION:
URL:https://westerlyairportfriends.org/event/waa-pancake-breakfast-planning-meeting/
LOCATION:WAA planning meeting Terminal\, 56 Airport Rd\, Westerly\, RI\, 02891\, United States
CATEGORIES:Meetings
END:VEVENT
BEGIN:VEVENT
DTSTART;TZID=America/New_York:20180515T180000
DTEND;TZID=America/New_York:20180515T210000
DTSTAMP:20260423T142539
CREATED:20180424T121632Z
LAST-MODIFIED:20180522T132118Z
UID:1525-1526407200-1526418000@westerlyairportfriends.org
SUMMARY:WAA meeting
DESCRIPTION:For WAA Members and invited guests. \nConference room of the Westerly Airport main terminal building. After entering through the front doors\, go down the corridor to the right. The conference room is the last door on the right. \nMeeting begins with a light supper. \nWAA_minutes-180515
URL:https://westerlyairportfriends.org/event/waa-meeting-69/
LOCATION:RI
CATEGORIES:Meetings
END:VEVENT
BEGIN:VEVENT
DTSTART;TZID=America/New_York:20180426T083000
DTEND;TZID=America/New_York:20180426T110000
DTSTAMP:20260423T142539
CREATED:20180424T125533Z
LAST-MODIFIED:20180424T125533Z
UID:1528-1524731400-1524740400@westerlyairportfriends.org
SUMMARY:Westerly HS career day
DESCRIPTION:WAA Participates
URL:https://westerlyairportfriends.org/event/westerly-hs-career-day/
LOCATION:Westerly High School\, 3 Bellevue Ave\, Westerly\, RI\, 02891\, United States
CATEGORIES:Events,Meetings
END:VEVENT
BEGIN:VEVENT
DTSTART;TZID=America/New_York:20180417T180000
DTEND;TZID=America/New_York:20180417T210000
DTSTAMP:20260423T142539
CREATED:20180320T211835Z
LAST-MODIFIED:20180424T140052Z
UID:1510-1523988000-1523998800@westerlyairportfriends.org
SUMMARY:WAA meeting
DESCRIPTION:For WAA Members and invited guests. \nWAA_minutes-180417
URL:https://westerlyairportfriends.org/event/waa-meeting-68/
LOCATION:WAA dinner meeting Buon\, Buon Appetito Ristorante\, North Stonington\, CT\, 06359\, United States
CATEGORIES:Meetings
END:VEVENT
BEGIN:VEVENT
DTSTART;TZID=America/New_York:20180410T180000
DTEND;TZID=America/New_York:20180410T200000
DTSTAMP:20260423T142539
CREATED:20180127T234256Z
LAST-MODIFIED:20180320T212440Z
UID:1448-1523383200-1523390400@westerlyairportfriends.org
SUMMARY:WAA Golf committee meeting
DESCRIPTION:For WAA Members and invited guests. \nConference room of the Westerly Airport main terminal building. After entering through the front doors\, go down the corridor to the right. The conference room is the last door on the right.
URL:https://westerlyairportfriends.org/event/waa-golf-committee-meeting-11/
LOCATION:RI
CATEGORIES:Meetings
END:VEVENT
END:VCALENDAR